Workbook

Sheet Budget Instructions
A2: OAIHTR Grant Budget Instructions
A3: Please read these instructions carefully. There are FIVE tabs in this workbook (refer to bottom of spreadsheet). Tab 1: Budget Instructions with Sample Budget (this tab) Tab 2: Indirect Cost Guidance Tab 3: Year 1 07.27-06.28 (complete this tab for Year 1 budget) Tab 4: Year 2 07.28-06.29 (complete this tab for Year 2 budget) Tab 5: Budget Summary (this tab automatically fills with information from Tabs 3-4) (do not complete this tab) Tab 3-4 Instructions: Please complete all white cells with anticipated expenses for the budget period. The highlighted cells will auto calculate. Each budget category should include all anticipated expenses over the budget period. Note: Subtotal and total lines are being rounded to the nearest dollar. Tab 5: You do not need to fill in this tab; it will automatically fill once you enter information in Tabs 3-4. This budget should represent your best anticipation of needed expenses at this time. However, budgets may be revised (with approval from your program specialist) at a later date if anticipated expenses change. Changes to the Incentive budget line will require a grant amendment before it can be revised. | H3: Excel Tips
H5: Want to start a new line? To add a line break, press alt + Return (PC) or Ctrl + Option + Return (Mac).
H8: Want to copy text? Highlight the text you want to copy and press Ctrl + C (PC) or Command + C (Mac). To paste, click in the cell you want to paste the text and press Ctrl + V (PC) or Command + V (Mac). Copying an entire cell may not work if the cells are difference sizes.
A12: Sample Budget
A13: Salary & Fringe (Staff directly involved in the work plan activities and share of fringe benefits including pay roll tax, health insurance costs, etc.)
A14: Position Title & Name (if known) | B14: Brief Description of Staff Roles & Responsibilities | D14: FTE on Grant | E14: Salary Charged to Grant | F14: % Fringe (if applicable) | G14: Fringe Total (if applicable) | H14: Line Total
A15: Program Manager, First & Last Name | B15: Oversees grant activities and grant staff | D15: 0.15 | E15: 11000 | F15: 0.2 | G15: =E15*F15 -> 2200 | H15: =E15+G15 -> 13200
A16: Cultural Program Coordinator, TBH | B16: Supports traditional healing practices and activities for youth program | D16: 0.33 | E16: 17000 | F16: 0.2 | G16: =E16*F16 -> 3400 | H16: =E16+G16 -> 20400
A18: Total for Salary & Fringe | H18: =ROUND(SUM(H15:H17), 0) -> 33600
A20: Contractual Services (Facilitators, evaluators, speakers, trainers, etc. that include creating a contract for services with an individual or organization)
A21: Contractor Name (if known) | B21: Scope of Work/Description of Service(s) Provided & Timeline | H21: Total
A22: Mr. Lacrosse | B22: Lacrosse Camp intro and teaching ($300 x 2 events) | H22: 600
A23: Facilitator (TBD) | B23: Youth workshop facilitation ($150 x 6 workshops) | H23: =150*6 -> 900
A25: Total for Contractual Services | H25: =ROUND(SUM(H22:H24), 0) -> 1500
A27: Travel*(Staff reimbursement for mileage, parking, lodging, per diem, etc. for travel necessary to achieve grant goals; this can include travel to in-person grantee gatherings)
A28: Purpose and/or Description of Travel | H28: Total
A29: Mileage reimbursement for program manager and cultural program coordinator to travel to various locations for programming (100 miles each at .76 per mile) | H29: =100*0.76*2 -> 152
A30: Mileage for program manager for ABC conference attendance in Breezy Point, MN (186 miles round trip at .76 per mile) | H30: =186*0.76 -> 141.36
A31: One night hotel for program manager at ABC conference | H31: 120
A33: *Reimbursement information can be found in the Budget Guidance document | E33: Total for Travel | H33: =ROUND(SUM(H29:H32), 0) -> 413
A35: Supplies (Supplies needed specifically for the grant project including office supplies (including computers and monitors), program/event supplies, training materials, promotional items, mailing, printing, food, etc.; this includes pieces of equipment that cost less than $10,000 per item)
A36: Description of supplies, including cost breakdowns and the activities or events they support in the work plan | F36: Quantity | G36: Unit Cost | H36: Total
A37: Food for 6 youth workshops ($12 per participant X 20 youth) | F37: =6*20 -> 120 | G37: 12 | H37: =F37*G37 -> 1440
A38: Cultural supplies for ribbon skirt/shirt events (ribbon, fabric, etc.) $500 per youth event (4 events) | F38: 4 | G38: 500 | H38: =F38*G38 -> 2000
A39: Educational materials for the youth workshops | F39: 10 | G39: 20 | H39: =F39*G39 -> 200
A40: Program supplies for the youth program such as art supplies, journals, paper, pens, and cultural supplies | F40: 20 | G40: 40 | H40: =F40*G40 -> 800
A41: Laptop for cultural program coordinator (50% of the total cost of $1,200) | F41: 1 | G41: 600 | H41: =F41*G41 -> 600
H42: =F42*G42 -> 0
A43: Total for Supplies | H43: =ROUND(SUM(H37:H42), 0) -> 5040
A45: Equipment (Equipment refers to tangible personal property having a useful life of more than one year and a per-unit acquisition cost which equals or exceeds $10,000)
A46: Description of the equipment, including cost breakdowns and the activities or events they support in the work plan | F46: Quantity | G46: Unit Cost | H46: Total
A49: Total for Equipment | H49: =ROUND(SUM(H47:H48), 0) -> 0
A51: Incentives (Incentives are used to encourage participation in a specific activity in order to accomplish program goals and objective; this includes both gift cards and items of monetary value) Changes to this budget line requires a grant amendment.
A52: Description of items, including cost breakdowns and the activities or events they support in the work plan | F52: Quantity | G52: Unit Cost | H52: Total
A53: Gift cards for youth workshop participation ($50 each x 10) | F53: 10 | G53: 50 | H53: =F53*G53 -> 500
A54: Nike N7 sportswear (shorts or shirts) for youth program participants estimated at $75 each for 20 participants | F54: 20 | G54: 75 | H54: =F54*G54 -> 1500
H55: =F55*G55 -> 0
A56: Total for Incentives | H56: =ROUND(SUM(H53:H55), 0) -> 2000
A58: Other (Staff training, conference/registration fees, media expenses, stipends (without a contract), etc. and items that do not fit into one of the other budget categories)
...

Sheet Indirect Cost Guidance
A2: MDH Indirect Costs Guidance
A3: DEFINITIONS Indirect costs (IDC) are expenses incurred for a common or joint purpose benefitting more than one cost objective and that cannot be assigned to a specific cost objective without significant effort that would negate the benefit of assigning it to a specific cost objective. Examples include, but are not limited to, utilities, human resources staff, and accounting/financial operations staff. MDH will accept a rate up to an organization’s allowed federally negotiated indirect cost rate agreement (NICRA) or the allowed the de minimis rate (typically 15%) of modified total direct costs (MTDC). Grantees who wish to use an indirect rate that matches their NICRA must be able to provide a copy of the NICRA. MDH will need to have a copy of the NICRA agreement before a grant agreement is signed, and organizations with a NICRA expired longer than 12 months will need to use the de minimus rate (15%). Examples of indirect costs: • A portion of the total cost of the organization’s annual audit. • A portion of the organization’s total depreciation costs. • A portion of the total cost of the organization’s security system. In contrast, administrative costs are expenses not directly related to delivering grant objectives and not included as an indirect cost, but necessary to support a particular grant program. These items should be included in the grantee budget as specific line items. To be included as direct costs, these expenses must be attributable and appropriately tracked to specific awards. Examples might include, but are not limited to, the documented salary and fringe costs of the grantee’s Executive Director (if not covered in indirect costs). An expense listed as an administrative cost CANNOT be included as an expense paid from indirect. Examples of administrative costs (should be included in direct lines of the budget): • A portion of the organization’s monthly printer/copier lease and maintenance fees, calculated by tracking how many jobs were coded to the grant program and applying a percentage based on usage. • A portion of the organization’s administrative support, accounting or human resources, calculated by tracking time spent by staff in these areas on the grant program. • A portion of the organization’s occupancy costs, calculated by applying a square footage cost total to the amount of physical space used for grant program management and activities. Direct costs are costs that can be directly attributed to a specific activity. Typical direct costs include documented salaries/wages, fringe, materials, and supplies directly used for the grant, and travel expenses directly related to the grant. Approved administrative costs that are attributable and appropriately tracked to specific awards would be included in direct costs. Modified total direct costs (MTDC) is a subtotal of direct costs in which the indirect costs percentage will be applied to. It typically includes all direct salaries and wages, applicable fringe benefits, materials and supplies, services, travel, and up to the first $50,000 of each subaward (regardless of the period of performance of the subawards under the award). MTDC excludes equipment, capital expenditures, charges for patient care, rental costs, tuition reimbursement, scholarships and fellowships, participant support costs, and the portion of each subaward in excess of $50,000. NICRAs may have different restrictions. For example, a NICRA may have IDC applied only to salary and fringe costs, and the MTDC in this example would be the salary and fringe subtotal. | M3: How to Calculate 15% Indirect
M5: FROM DIRECT COSTS: Modified Total Direct Costs (MTDC) x 0.15 = Maximum Indirect Costs EXAMPLE 1 (Direct Costs = MTDC; most common): $162,000 MTDC x 0.15 = $24,300 Maximum Indirect Costs $162,000 MTDC + $24,300 IDC = $186,300 Total Award/Request EXAMPLE 2 (Direct Costs and MTDC are different amounts): $15,000 in equipment costs $148,957 MTDC x 0.15 = $22,343 $148,957 MTDC + $15,000 equipment + $22,343 IDC = $186,300 Total Award
M17: FROM TOTAL GRANT AWARD/REQUEST: Total Award – any direct costs IDC is NOT applied to = X X / 1.15 = Maximum MTDC Total Award – Maximum MTDC = Maximum Indirect Costs EXAMPLE 1 (Direct Costs = MTDC; most common): $186,300 grant award / 1.15 = $162,000 Maximum MTDC $186,300 - $162,000 = $24,300 Maximum Indirect Costs EXAMPLE 2 (Direct Costs and MTDC are different amounts): $186,300 grant award - $15,000 in equipment = $171,300 $171,300 / 1.15 = $148,957 MTDC $171,300 - $148,957 MTDC = $22,343 Maximum Indirect Costs
M31: PLEASE NOTE: Applicants who do not have a NICRA rate must list the expenses that are covered in your organization’s indirect cost pool in the budget narrative. For example: "Annual audits, depreciation, operation and maintenance costs for facilities and building security system."

Sheet Year 1 07.27-06.28
A2: [GRANT PROGRAM NAME]
A3: Organization:
A4: Annual Budget Amount: | C4: Annual Budget Period: | E4: 07/01/2027 - 06/30/2028
A5: Salary & Fringe (Staff directly involved in the work plan activities and share of fringe benefits including pay roll tax, health insurance costs, etc.)
A6: Position Title & Name (if known) | B6: Brief Description of Staff Roles & Responsibilities | D6: FTE on Grant | E6: Salary Charged to Grant | F6: % Fringe (if applicable) | G6: Fringe Total (if applicable) | H6: Line Total
G7: =E7*F7 -> 0 | H7: =E7+G7 -> 0
G8: =E8*F8 -> 0 | H8: =E8+G8 -> 0
G9: =E9*F9 -> 0 | H9: =E9+G9 -> 0
G10: =E10*F10 -> 0 | H10: =E10+G10 -> 0
G11: =E11*F11 -> 0 | H11: =E11+G11 -> 0
G12: =E12*F12 -> 0 | H12: =E12+G12 -> 0
A13: Total for Salary & Fringe | H13: =ROUND(SUM(H7:H12), 0) -> 0
A15: Contractual Services (Facilitators, evaluators, speakers, trainers, etc. that include creating a contract for services with an individual or organization)
A16: Contractor Name (if known) | B16: Scope of Work/Description of Service(s) Provided & Timeline | H16: Total
A21: Total for Contractual Services | H21: =ROUND(SUM(H17:H20), 0) -> 0
A23: Travel* (Staff reimbursement for mileage, parking, lodging, per diem, etc. for travel necessary to achieve grant goals; this can include travel to in-person grantee gatherings)
A24: Purpose and/or Description of Travel | H24: Total
A31: *Reimbursement information can be found in the Budget Guidance document | E31: Total for Travel | H31: =ROUND(SUM(H25:H30),0) -> 0
A33: Supplies (Supplies needed specifically for the grant project including office supplies (including computers and monitors), program supplies, promotional items, mailing, food, etc.; this includes pieces of equipment that cost less than $10,000 per item)
A34: Description of supplies, including cost breakdowns and the activities or events they support in the work plan | F34: Quantity | G34: Unit Cost | H34: Total
H35: =F35*G35 -> 0
H36: =F36*G36 -> 0
H37: =F37*G37 -> 0
H38: =F38*G38 -> 0
H39: =F39*G39 -> 0
H40: =F40*G40 -> 0
H41: =F41*G41 -> 0
A42: Total for Supplies | H42: =ROUND(SUM(H35:H41), 0) -> 0
A44: Equipment (Equipment refers to tangible personal property having a useful life of more than one year and a per-unit acquisition cost which equals or exceeds $10,000)
A45: Description of the equipment, including cost breakdowns and the activities or events they support in the work plan | F45: Quantity | G45: Unit Cost | H45: Total
H46: =F46*G46 -> 0
H47: =F47*G47 -> 0
H48: =F48*G48 -> 0
A49: Total for Equipment | H49: =ROUND(SUM(H46:H48), 0) -> 0
A51: Incentives (Incentives are used to encourage participation in a specific activity in order to accomplish program goals and objective; this includes both gift cards and items of monetary value) Changes to this budget line requires a grant amendment.
A52: Description of items, including cost breakdowns and the activities or events they support in the work plan | F52: Quantity | G52: Unit Cost | H52: Total
H53: =F53*G53 -> 0
H54: =F54*G54 -> 0
H55: =F55*G55 -> 0
H56: =F56*G56 -> 0
...

Sheet Year 2 07.28-06.29
A2: [GRANT PROGRAM NAME]
A3: Organization:
A4: Annual Budget Amount: | C4: Annual Budget Period: | E4: 07/01/2028 - 06/30/2029
A5: Salary & Fringe (Staff directly involved in the work plan activities and share of fringe benefits including pay roll tax, health insurance costs, etc.)
A6: Position Title & Name (if known) | B6: Brief Description of Staff Roles & Responsibilities | D6: FTE on Grant | E6: Salary Charged to Grant | F6: % Fringe (if applicable) | G6: Fringe Total (if applicable) | H6: Line Total
G7: =E7*F7 -> 0 | H7: =E7+G7 -> 0
G8: =E8*F8 -> 0 | H8: =E8+G8 -> 0
G9: =E9*F9 -> 0 | H9: =E9+G9 -> 0
G10: =E10*F10 -> 0 | H10: =E10+G10 -> 0
G11: =E11*F11 -> 0 | H11: =E11+G11 -> 0
G12: =E12*F12 -> 0 | H12: =E12+G12 -> 0
A13: Total for Salary & Fringe | H13: =ROUND(SUM(H7:H12), 0) -> 0
A15: Contractual Services (Facilitators, evaluators, speakers, trainers, etc. that include creating a contract for services with an individual or organization)
A16: Contractor Name (if known) | B16: Scope of Work/Description of Service(s) Provided & Timeline | H16: Total
A21: Total for Contractual Services | H21: =ROUND(SUM(H17:H20), 0) -> 0
A23: Travel* (Staff reimbursement for mileage, parking, lodging, per diem, etc. for travel necessary to achieve grant goals; this can include travel to in-person grantee gatherings)
A24: Purpose and/or Description of Travel | H24: Total
A31: *Reimbursement information can be found in the Budget Guidance document | E31: Total for Travel | H31: =ROUND(SUM(H25:H30),0) -> 0
A33: Supplies (Supplies needed specifically for the grant project including office supplies (including computers and monitors), program supplies, promotional items, mailing, food, etc.; this includes pieces of equipment that cost less than $10,000 per item)
A34: Description of supplies, including cost breakdowns and the activities or events they support in the work plan | F34: Quantity | G34: Unit Cost | H34: Total
H35: =F35*G35 -> 0
H36: =F36*G36 -> 0
H37: =F37*G37 -> 0
H38: =F38*G38 -> 0
H39: =F39*G39 -> 0
H40: =F40*G40 -> 0
H41: =F41*G41 -> 0
A42: Total for Supplies | H42: =ROUND(SUM(H35:H41), 0) -> 0
A44: Equipment (Equipment refers to tangible personal property having a useful life of more than one year and a per-unit acquisition cost which equals or exceeds $10,000)
A45: Description of the equipment, including cost breakdowns and the activities or events they support in the work plan | F45: Quantity | G45: Unit Cost | H45: Total
H46: =F46*G46 -> 0
H47: =F47*G47 -> 0
H48: =F48*G48 -> 0
A49: Total for Equipment | H49: =ROUND(SUM(H46:H48), 0) -> 0
A51: Incentives (Incentives are used to encourage participation in a specific activity in order to accomplish program goals and objective; this includes both gift cards and items of monetary value) Changes to this budget line requires a grant amendment.
A52: Description of items, including cost breakdowns and the activities or events they support in the work plan | F52: Quantity | G52: Unit Cost | H52: Total
H53: =F53*G53 -> 0
H54: =F54*G54 -> 0
H55: =F55*G55 -> 0
H56: =F56*G56 -> 0
...

Sheet Budget Summary (auto-fill)
A4: This page will auto-fill when you enter your information in the Years 1 and 2 tabs.
A5: Organization: | B5: ='Year 1 07.27-06.28'!B3 -> 0
A6: Two Year Budget | B6: ='Year 1 07.27-06.28'!B4+'Year 2 07.28-06.29'!B4 -> 0
B8: ='Year 1 07.27-06.28'!A2 -> [GRANT PROGRAM NAME]
B9: 07/01/2027 - 06/30/2029
B10: Budget line | C10: Year 1 | D10: Year 2 | E10: Total
B11: I. Salary & Fringe Benefits | C11: ='Year 1 07.27-06.28'!H13 -> 0 | D11: ='Year 2 07.28-06.29'!H13 -> 0 | E11: =C11+D11 -> 0
B12: II. Contractual Services | C12: ='Year 1 07.27-06.28'!H21 -> 0 | D12: ='Year 2 07.28-06.29'!H21 -> 0 | E12: =C12+D12 -> 0
B13: III. Travel | C13: ='Year 1 07.27-06.28'!H31 -> 0 | D13: ='Year 2 07.28-06.29'!H31 -> 0 | E13: =C13+D13 -> 0
B14: IV. Supplies | C14: ='Year 1 07.27-06.28'!H42 -> 0 | D14: ='Year 2 07.28-06.29'!H42 -> 0 | E14: =C14+D14 -> 0
B15: V. Equipment | C15: ='Year 1 07.27-06.28'!H49 -> 0 | D15: ='Year 2 07.28-06.29'!H49 -> 0 | E15: =C15+D15 -> 0
B16: VI. Incentives | C16: ='Year 1 07.27-06.28'!H57 -> 0 | D16: ='Year 2 07.28-06.29'!H57 -> 0 | E16: =C16+D16 -> 0
B17: VII. Other | C17: ='Year 1 07.27-06.28'!H68 -> 0 | D17: ='Year 2 07.28-06.29'!H68 -> 0 | E17: =C17+D17 -> 0
B18: Subtotal | C18: =SUM(C11:C17) -> 0 | D18: =SUM(D11:D17) -> 0 | E18: =SUM(E11:E17) -> 0
B19: VI. Indirect Costs | C19: ='Year 1 07.27-06.28'!H77 -> 0 | D19: ='Year 2 07.28-06.29'!H77 -> 0 | E19: =C19+D19 -> 0
B20: TOTAL | C20: =C18+C19 -> 0 | D20: =D18+D19 -> 0 | E20: =E18+E19 -> 0
